BEGIN:VCALENDAR
VERSION:2.0
PRODID:-//Holy Trinity Dunoon - ECPv6.15.20//NONSGML v1.0//EN
CALSCALE:GREGORIAN
METHOD:PUBLISH
X-WR-CALNAME:Holy Trinity Dunoon
X-ORIGINAL-URL:https://www.holytrinitydunoon.co.uk
X-WR-CALDESC:Events for Holy Trinity Dunoon
REFRESH-INTERVAL;VALUE=DURATION:PT1H
X-Robots-Tag:noindex
X-PUBLISHED-TTL:PT1H
BEGIN:VTIMEZONE
TZID:Europe/London
BEGIN:DAYLIGHT
TZOFFSETFROM:+0000
TZOFFSETTO:+0100
TZNAME:BST
DTSTART:20240331T010000
END:DAYLIGHT
BEGIN:STANDARD
TZOFFSETFROM:+0100
TZOFFSETTO:+0000
TZNAME:GMT
DTSTART:20241027T010000
END:STANDARD
BEGIN:DAYLIGHT
TZOFFSETFROM:+0000
TZOFFSETTO:+0100
TZNAME:BST
DTSTART:20250330T010000
END:DAYLIGHT
BEGIN:STANDARD
TZOFFSETFROM:+0100
TZOFFSETTO:+0000
TZNAME:GMT
DTSTART:20251026T010000
END:STANDARD
BEGIN:DAYLIGHT
TZOFFSETFROM:+0000
TZOFFSETTO:+0100
TZNAME:BST
DTSTART:20260329T010000
END:DAYLIGHT
BEGIN:STANDARD
TZOFFSETFROM:+0100
TZOFFSETTO:+0000
TZNAME:GMT
DTSTART:20261025T010000
END:STANDARD
BEGIN:DAYLIGHT
TZOFFSETFROM:+0000
TZOFFSETTO:+0100
TZNAME:BST
DTSTART:20270328T010000
END:DAYLIGHT
BEGIN:STANDARD
TZOFFSETFROM:+0100
TZOFFSETTO:+0000
TZNAME:GMT
DTSTART:20271031T010000
END:STANDARD
END:VTIMEZONE
BEGIN:VEVENT
DTSTART;TZID=Europe/London:20260208T160000
DTEND;TZID=Europe/London:20260208T170000
DTSTAMP:20260424T122144
CREATED:20251214T142339Z
LAST-MODIFIED:20251214T142339Z
UID:13326-1770566400-1770570000@www.holytrinitydunoon.co.uk
SUMMARY:Service of the Word @Home
DESCRIPTION:Fifth Sunday after Epiphany – Service of the Word led by the members of the worship team. \nPlease use the contact form to request details of this Zoom service.
URL:https://www.holytrinitydunoon.co.uk/htevent/service-of-the-word-home-220/
LOCATION:In your own home
CATEGORIES:Non-Eucharistic Service
END:VEVENT
BEGIN:VEVENT
DTSTART;TZID=Europe/London:20260206T093000
DTEND;TZID=Europe/London:20260206T100000
DTSTAMP:20260424T122144
CREATED:20251214T093424Z
LAST-MODIFIED:20251214T093424Z
UID:13220-1770370200-1770372000@www.holytrinitydunoon.co.uk
SUMMARY:Morning Prayer@Home
DESCRIPTION:Morning prayer – using the liturgy on the SEC website  \nPlease use the contact form to request details of this Zoom service.
URL:https://www.holytrinitydunoon.co.uk/htevent/morning-prayerhome-662/
LOCATION:In your own home
CATEGORIES:Non-Eucharistic Service
ATTACH;FMTTYPE=image/jpeg:https://www.holytrinitydunoon.co.uk/wp-content/uploads/2022/06/Morning-Prayer-Illustration.jpg
END:VEVENT
BEGIN:VEVENT
DTSTART;TZID=Europe/London:20260205T093000
DTEND;TZID=Europe/London:20260205T100000
DTSTAMP:20260424T122144
CREATED:20251214T093421Z
LAST-MODIFIED:20251214T093421Z
UID:13219-1770283800-1770285600@www.holytrinitydunoon.co.uk
SUMMARY:Morning Prayer@Home
DESCRIPTION:Morning prayer – using the liturgy on the SEC website  \nPlease use the contact form to request details of this Zoom service.
URL:https://www.holytrinitydunoon.co.uk/htevent/morning-prayerhome-661/
LOCATION:In your own home
CATEGORIES:Non-Eucharistic Service
ATTACH;FMTTYPE=image/jpeg:https://www.holytrinitydunoon.co.uk/wp-content/uploads/2022/06/Morning-Prayer-Illustration.jpg
END:VEVENT
BEGIN:VEVENT
DTSTART;TZID=Europe/London:20260204T200000
DTEND;TZID=Europe/London:20260204T203000
DTSTAMP:20260424T122144
CREATED:20251214T093420Z
LAST-MODIFIED:20251214T093420Z
UID:13218-1770235200-1770237000@www.holytrinitydunoon.co.uk
SUMMARY:Compline @Home
DESCRIPTION:Compline  \nPlease use the contact form to request details of this Zoom service.
URL:https://www.holytrinitydunoon.co.uk/htevent/compline-home-220/
LOCATION:In your own home
CATEGORIES:Non-Eucharistic Service
ATTACH;FMTTYPE=image/jpeg:https://www.holytrinitydunoon.co.uk/wp-content/uploads/2025/01/Single-Candle-Burning-scaled-OkFG9d.tmp_.jpg
END:VEVENT
BEGIN:VEVENT
DTSTART;TZID=Europe/London:20260203T093000
DTEND;TZID=Europe/London:20260203T100000
DTSTAMP:20260424T122144
CREATED:20251214T093417Z
LAST-MODIFIED:20251214T093417Z
UID:13217-1770111000-1770112800@www.holytrinitydunoon.co.uk
SUMMARY:Morning Prayer@Home
DESCRIPTION:Morning prayer – using the liturgy on the SEC website  \nPlease use the contact form to request details of this Zoom service.
URL:https://www.holytrinitydunoon.co.uk/htevent/morning-prayerhome-660/
LOCATION:In your own home
CATEGORIES:Non-Eucharistic Service
ATTACH;FMTTYPE=image/jpeg:https://www.holytrinitydunoon.co.uk/wp-content/uploads/2022/06/Morning-Prayer-Illustration.jpg
END:VEVENT
BEGIN:VEVENT
DTSTART;TZID=Europe/London:20260201T160000
DTEND;TZID=Europe/London:20260201T170000
DTSTAMP:20260424T122144
CREATED:20251214T142337Z
LAST-MODIFIED:20251214T142337Z
UID:13325-1769961600-1769965200@www.holytrinitydunoon.co.uk
SUMMARY:Service of the Word @Home
DESCRIPTION:The Presentation of the Lord – Service of the Word led by the members of the worship team. \nPlease use the contact form to request details of this Zoom service.
URL:https://www.holytrinitydunoon.co.uk/htevent/service-of-the-word-home-219/
LOCATION:In your own home
CATEGORIES:Non-Eucharistic Service
END:VEVENT
BEGIN:VEVENT
DTSTART;TZID=Europe/London:20260130T093000
DTEND;TZID=Europe/London:20260130T100000
DTSTAMP:20260424T122144
CREATED:20250828T105638Z
LAST-MODIFIED:20250828T105638Z
UID:13081-1769765400-1769767200@www.holytrinitydunoon.co.uk
SUMMARY:Morning Prayer@Home
DESCRIPTION:Morning prayer – using the liturgy on the SEC website  \nPlease use the contact form to request details of this Zoom service.
URL:https://www.holytrinitydunoon.co.uk/htevent/morning-prayerhome-659/
LOCATION:In your own home
CATEGORIES:Non-Eucharistic Service
ATTACH;FMTTYPE=image/jpeg:https://www.holytrinitydunoon.co.uk/wp-content/uploads/2022/06/Morning-Prayer-Illustration.jpg
END:VEVENT
BEGIN:VEVENT
DTSTART;TZID=Europe/London:20260129T093000
DTEND;TZID=Europe/London:20260129T100000
DTSTAMP:20260424T122144
CREATED:20250828T105638Z
LAST-MODIFIED:20250828T105638Z
UID:13080-1769679000-1769680800@www.holytrinitydunoon.co.uk
SUMMARY:Morning Prayer@Home
DESCRIPTION:Morning prayer – using the liturgy on the SEC website  \nPlease use the contact form to request details of this Zoom service.
URL:https://www.holytrinitydunoon.co.uk/htevent/morning-prayerhome-658/
LOCATION:In your own home
CATEGORIES:Non-Eucharistic Service
ATTACH;FMTTYPE=image/jpeg:https://www.holytrinitydunoon.co.uk/wp-content/uploads/2022/06/Morning-Prayer-Illustration.jpg
END:VEVENT
BEGIN:VEVENT
DTSTART;TZID=Europe/London:20260128T200000
DTEND;TZID=Europe/London:20260128T203000
DTSTAMP:20260424T122144
CREATED:20250828T105637Z
LAST-MODIFIED:20250828T105637Z
UID:13079-1769630400-1769632200@www.holytrinitydunoon.co.uk
SUMMARY:Compline @Home
DESCRIPTION:Compline  \nPlease use the contact form to request details of this Zoom service.
URL:https://www.holytrinitydunoon.co.uk/htevent/compline-home-219/
LOCATION:In your own home
CATEGORIES:Non-Eucharistic Service
ATTACH;FMTTYPE=image/jpeg:https://www.holytrinitydunoon.co.uk/wp-content/uploads/2025/01/Single-Candle-Burning-scaled-OkFG9d.tmp_.jpg
END:VEVENT
BEGIN:VEVENT
DTSTART;TZID=Europe/London:20260127T093000
DTEND;TZID=Europe/London:20260127T100000
DTSTAMP:20260424T122144
CREATED:20250828T105637Z
LAST-MODIFIED:20250828T105637Z
UID:13078-1769506200-1769508000@www.holytrinitydunoon.co.uk
SUMMARY:Morning Prayer@Home
DESCRIPTION:Morning prayer – using the liturgy on the SEC website  \nPlease use the contact form to request details of this Zoom service.
URL:https://www.holytrinitydunoon.co.uk/htevent/morning-prayerhome-657/
LOCATION:In your own home
CATEGORIES:Non-Eucharistic Service
ATTACH;FMTTYPE=image/jpeg:https://www.holytrinitydunoon.co.uk/wp-content/uploads/2022/06/Morning-Prayer-Illustration.jpg
END:VEVENT
BEGIN:VEVENT
DTSTART;TZID=Europe/London:20260125T160000
DTEND;TZID=Europe/London:20260125T170000
DTSTAMP:20260424T122144
CREATED:20251214T142337Z
LAST-MODIFIED:20251214T142337Z
UID:13324-1769356800-1769360400@www.holytrinitydunoon.co.uk
SUMMARY:Service of the Word @Home
DESCRIPTION:Third Sunday after Epiphany – Service of the Word led by the members of the worship team. \nPlease use the contact form to request details of this Zoom service.
URL:https://www.holytrinitydunoon.co.uk/htevent/service-of-the-word-home-218/
LOCATION:In your own home
CATEGORIES:Non-Eucharistic Service
END:VEVENT
BEGIN:VEVENT
DTSTART;TZID=Europe/London:20260123T093000
DTEND;TZID=Europe/London:20260123T100000
DTSTAMP:20260424T122144
CREATED:20250828T105625Z
LAST-MODIFIED:20250828T105625Z
UID:13077-1769160600-1769162400@www.holytrinitydunoon.co.uk
SUMMARY:Morning Prayer@Home
DESCRIPTION:Morning prayer – using the liturgy on the SEC website  \nPlease use the contact form to request details of this Zoom service.
URL:https://www.holytrinitydunoon.co.uk/htevent/morning-prayerhome-656/
LOCATION:In your own home
CATEGORIES:Non-Eucharistic Service
ATTACH;FMTTYPE=image/jpeg:https://www.holytrinitydunoon.co.uk/wp-content/uploads/2022/06/Morning-Prayer-Illustration.jpg
END:VEVENT
BEGIN:VEVENT
DTSTART;TZID=Europe/London:20260122T093000
DTEND;TZID=Europe/London:20260122T100000
DTSTAMP:20260424T122144
CREATED:20250828T105624Z
LAST-MODIFIED:20250828T105624Z
UID:13076-1769074200-1769076000@www.holytrinitydunoon.co.uk
SUMMARY:Morning Prayer@Home
DESCRIPTION:Morning prayer – using the liturgy on the SEC website  \nPlease use the contact form to request details of this Zoom service.
URL:https://www.holytrinitydunoon.co.uk/htevent/morning-prayerhome-655/
LOCATION:In your own home
CATEGORIES:Non-Eucharistic Service
ATTACH;FMTTYPE=image/jpeg:https://www.holytrinitydunoon.co.uk/wp-content/uploads/2022/06/Morning-Prayer-Illustration.jpg
END:VEVENT
BEGIN:VEVENT
DTSTART;TZID=Europe/London:20260121T200000
DTEND;TZID=Europe/London:20260121T203000
DTSTAMP:20260424T122144
CREATED:20250828T105624Z
LAST-MODIFIED:20250828T105624Z
UID:13075-1769025600-1769027400@www.holytrinitydunoon.co.uk
SUMMARY:Compline @Home
DESCRIPTION:Compline  \nPlease use the contact form to request details of this Zoom service.
URL:https://www.holytrinitydunoon.co.uk/htevent/compline-home-218/
LOCATION:In your own home
CATEGORIES:Non-Eucharistic Service
ATTACH;FMTTYPE=image/jpeg:https://www.holytrinitydunoon.co.uk/wp-content/uploads/2025/01/Single-Candle-Burning-scaled-OkFG9d.tmp_.jpg
END:VEVENT
BEGIN:VEVENT
DTSTART;TZID=Europe/London:20260120T093000
DTEND;TZID=Europe/London:20260120T100000
DTSTAMP:20260424T122144
CREATED:20250828T105623Z
LAST-MODIFIED:20250828T105623Z
UID:13074-1768901400-1768903200@www.holytrinitydunoon.co.uk
SUMMARY:Morning Prayer@Home
DESCRIPTION:Morning prayer – using the liturgy on the SEC website  \nPlease use the contact form to request details of this Zoom service.
URL:https://www.holytrinitydunoon.co.uk/htevent/morning-prayerhome-654/
LOCATION:In your own home
CATEGORIES:Non-Eucharistic Service
ATTACH;FMTTYPE=image/jpeg:https://www.holytrinitydunoon.co.uk/wp-content/uploads/2022/06/Morning-Prayer-Illustration.jpg
END:VEVENT
BEGIN:VEVENT
DTSTART;TZID=Europe/London:20260118T160000
DTEND;TZID=Europe/London:20260118T170000
DTSTAMP:20260424T122144
CREATED:20251214T142336Z
LAST-MODIFIED:20251214T142336Z
UID:13323-1768752000-1768755600@www.holytrinitydunoon.co.uk
SUMMARY:Service of the Word @Home
DESCRIPTION:Second Sunday after Epiphany – Service of the Word led by the members of the worship team. \nPlease use the contact form to request details of this Zoom service.
URL:https://www.holytrinitydunoon.co.uk/htevent/service-of-the-word-home-217/
LOCATION:In your own home
CATEGORIES:Non-Eucharistic Service
END:VEVENT
BEGIN:VEVENT
DTSTART;TZID=Europe/London:20260116T093000
DTEND;TZID=Europe/London:20260116T100000
DTSTAMP:20260424T122144
CREATED:20250828T105623Z
LAST-MODIFIED:20250828T105623Z
UID:13073-1768555800-1768557600@www.holytrinitydunoon.co.uk
SUMMARY:Morning Prayer@Home
DESCRIPTION:Morning prayer – using the liturgy on the SEC website  \nPlease use the contact form to request details of this Zoom service.
URL:https://www.holytrinitydunoon.co.uk/htevent/morning-prayerhome-653/
LOCATION:In your own home
CATEGORIES:Non-Eucharistic Service
ATTACH;FMTTYPE=image/jpeg:https://www.holytrinitydunoon.co.uk/wp-content/uploads/2022/06/Morning-Prayer-Illustration.jpg
END:VEVENT
BEGIN:VEVENT
DTSTART;TZID=Europe/London:20260115T093000
DTEND;TZID=Europe/London:20260115T100000
DTSTAMP:20260424T122144
CREATED:20250828T105609Z
LAST-MODIFIED:20250828T105609Z
UID:13072-1768469400-1768471200@www.holytrinitydunoon.co.uk
SUMMARY:Morning Prayer@Home
DESCRIPTION:Morning prayer – using the liturgy on the SEC website  \nPlease use the contact form to request details of this Zoom service.
URL:https://www.holytrinitydunoon.co.uk/htevent/morning-prayerhome-652/
LOCATION:In your own home
CATEGORIES:Non-Eucharistic Service
ATTACH;FMTTYPE=image/jpeg:https://www.holytrinitydunoon.co.uk/wp-content/uploads/2022/06/Morning-Prayer-Illustration.jpg
END:VEVENT
BEGIN:VEVENT
DTSTART;TZID=Europe/London:20260114T200000
DTEND;TZID=Europe/London:20260114T203000
DTSTAMP:20260424T122144
CREATED:20250828T105609Z
LAST-MODIFIED:20250828T105609Z
UID:13071-1768420800-1768422600@www.holytrinitydunoon.co.uk
SUMMARY:Compline @Home
DESCRIPTION:Compline  \nPlease use the contact form to request details of this Zoom service.
URL:https://www.holytrinitydunoon.co.uk/htevent/compline-home-217/
LOCATION:In your own home
CATEGORIES:Non-Eucharistic Service
ATTACH;FMTTYPE=image/jpeg:https://www.holytrinitydunoon.co.uk/wp-content/uploads/2025/01/Single-Candle-Burning-scaled-OkFG9d.tmp_.jpg
END:VEVENT
BEGIN:VEVENT
DTSTART;TZID=Europe/London:20260113T093000
DTEND;TZID=Europe/London:20260113T100000
DTSTAMP:20260424T122144
CREATED:20250828T105608Z
LAST-MODIFIED:20250828T105608Z
UID:13070-1768296600-1768298400@www.holytrinitydunoon.co.uk
SUMMARY:Morning Prayer@Home
DESCRIPTION:Morning prayer – using the liturgy on the SEC website  \nPlease use the contact form to request details of this Zoom service.
URL:https://www.holytrinitydunoon.co.uk/htevent/morning-prayerhome-651/
LOCATION:In your own home
CATEGORIES:Non-Eucharistic Service
ATTACH;FMTTYPE=image/jpeg:https://www.holytrinitydunoon.co.uk/wp-content/uploads/2022/06/Morning-Prayer-Illustration.jpg
END:VEVENT
BEGIN:VEVENT
DTSTART;TZID=Europe/London:20260111T160000
DTEND;TZID=Europe/London:20260111T170000
DTSTAMP:20260424T122144
CREATED:20251214T142336Z
LAST-MODIFIED:20251214T142336Z
UID:13322-1768147200-1768150800@www.holytrinitydunoon.co.uk
SUMMARY:Service of the Word @Home
DESCRIPTION:The Baptism of the Lord – Service of the Word led by the members of the worship team. \nPlease use the contact form to request details of this Zoom service.
URL:https://www.holytrinitydunoon.co.uk/htevent/service-of-the-word-home-216/
LOCATION:In your own home
CATEGORIES:Non-Eucharistic Service
END:VEVENT
BEGIN:VEVENT
DTSTART;TZID=Europe/London:20260109T093000
DTEND;TZID=Europe/London:20260109T100000
DTSTAMP:20260424T122144
CREATED:20250828T105608Z
LAST-MODIFIED:20250828T105608Z
UID:13069-1767951000-1767952800@www.holytrinitydunoon.co.uk
SUMMARY:Morning Prayer@Home
DESCRIPTION:Morning prayer – using the liturgy on the SEC website  \nPlease use the contact form to request details of this Zoom service.
URL:https://www.holytrinitydunoon.co.uk/htevent/morning-prayerhome-650/
LOCATION:In your own home
CATEGORIES:Non-Eucharistic Service
ATTACH;FMTTYPE=image/jpeg:https://www.holytrinitydunoon.co.uk/wp-content/uploads/2022/06/Morning-Prayer-Illustration.jpg
END:VEVENT
BEGIN:VEVENT
DTSTART;TZID=Europe/London:20260108T093000
DTEND;TZID=Europe/London:20260108T100000
DTSTAMP:20260424T122144
CREATED:20250828T105608Z
LAST-MODIFIED:20250828T105608Z
UID:13068-1767864600-1767866400@www.holytrinitydunoon.co.uk
SUMMARY:Morning Prayer@Home
DESCRIPTION:Morning prayer – using the liturgy on the SEC website  \nPlease use the contact form to request details of this Zoom service.
URL:https://www.holytrinitydunoon.co.uk/htevent/morning-prayerhome-649/
LOCATION:In your own home
CATEGORIES:Non-Eucharistic Service
ATTACH;FMTTYPE=image/jpeg:https://www.holytrinitydunoon.co.uk/wp-content/uploads/2022/06/Morning-Prayer-Illustration.jpg
END:VEVENT
BEGIN:VEVENT
DTSTART;TZID=Europe/London:20260107T200000
DTEND;TZID=Europe/London:20260107T203000
DTSTAMP:20260424T122144
CREATED:20250828T105553Z
LAST-MODIFIED:20250828T105553Z
UID:13067-1767816000-1767817800@www.holytrinitydunoon.co.uk
SUMMARY:Compline @Home
DESCRIPTION:Compline  \nPlease use the contact form to request details of this Zoom service.
URL:https://www.holytrinitydunoon.co.uk/htevent/compline-home-216/
LOCATION:In your own home
CATEGORIES:Non-Eucharistic Service
ATTACH;FMTTYPE=image/jpeg:https://www.holytrinitydunoon.co.uk/wp-content/uploads/2025/01/Single-Candle-Burning-scaled-OkFG9d.tmp_.jpg
END:VEVENT
BEGIN:VEVENT
DTSTART;TZID=Europe/London:20260106T093000
DTEND;TZID=Europe/London:20260106T100000
DTSTAMP:20260424T122144
CREATED:20250828T105553Z
LAST-MODIFIED:20250828T105553Z
UID:13066-1767691800-1767693600@www.holytrinitydunoon.co.uk
SUMMARY:Morning Prayer@Home
DESCRIPTION:Morning prayer – using the liturgy on the SEC website  \nPlease use the contact form to request details of this Zoom service.
URL:https://www.holytrinitydunoon.co.uk/htevent/morning-prayerhome-648/
LOCATION:In your own home
CATEGORIES:Non-Eucharistic Service
ATTACH;FMTTYPE=image/jpeg:https://www.holytrinitydunoon.co.uk/wp-content/uploads/2022/06/Morning-Prayer-Illustration.jpg
END:VEVENT
BEGIN:VEVENT
DTSTART;TZID=Europe/London:20260104T160000
DTEND;TZID=Europe/London:20260104T170000
DTSTAMP:20260424T122144
CREATED:20251214T142335Z
LAST-MODIFIED:20251214T142335Z
UID:13321-1767542400-1767546000@www.holytrinitydunoon.co.uk
SUMMARY:Service of the Word @Home
DESCRIPTION:The Epiphany – Service of the Word led by the members of the worship team. \nPlease use the contact form to request details of this Zoom service.
URL:https://www.holytrinitydunoon.co.uk/htevent/service-of-the-word-home-215/
LOCATION:In your own home
CATEGORIES:Non-Eucharistic Service
END:VEVENT
BEGIN:VEVENT
DTSTART;TZID=Europe/London:20260102T093000
DTEND;TZID=Europe/London:20260102T100000
DTSTAMP:20260424T122144
CREATED:20250828T105553Z
LAST-MODIFIED:20250828T105553Z
UID:13065-1767346200-1767348000@www.holytrinitydunoon.co.uk
SUMMARY:Morning Prayer@Home
DESCRIPTION:Morning prayer – using the liturgy on the SEC website  \nPlease use the contact form to request details of this Zoom service.
URL:https://www.holytrinitydunoon.co.uk/htevent/morning-prayerhome-647/
LOCATION:In your own home
CATEGORIES:Non-Eucharistic Service
ATTACH;FMTTYPE=image/jpeg:https://www.holytrinitydunoon.co.uk/wp-content/uploads/2022/06/Morning-Prayer-Illustration.jpg
END:VEVENT
BEGIN:VEVENT
DTSTART;TZID=Europe/London:20260101T093000
DTEND;TZID=Europe/London:20260101T100000
DTSTAMP:20260424T122144
CREATED:20250828T105552Z
LAST-MODIFIED:20250828T105552Z
UID:13064-1767259800-1767261600@www.holytrinitydunoon.co.uk
SUMMARY:Morning Prayer@Home
DESCRIPTION:Morning prayer – using the liturgy on the SEC website  \nPlease use the contact form to request details of this Zoom service.
URL:https://www.holytrinitydunoon.co.uk/htevent/morning-prayerhome-249/
LOCATION:In your own home
CATEGORIES:Non-Eucharistic Service
ATTACH;FMTTYPE=image/jpeg:https://www.holytrinitydunoon.co.uk/wp-content/uploads/2022/06/Morning-Prayer-Illustration.jpg
END:VEVENT
BEGIN:VEVENT
DTSTART;TZID=Europe/London:20251231T200000
DTEND;TZID=Europe/London:20251231T203000
DTSTAMP:20260424T122144
CREATED:20250828T105552Z
LAST-MODIFIED:20250828T105552Z
UID:13063-1767211200-1767213000@www.holytrinitydunoon.co.uk
SUMMARY:Compline @Home
DESCRIPTION:Compline  \nPlease use the contact form to request details of this Zoom service.
URL:https://www.holytrinitydunoon.co.uk/htevent/compline-home-215/
LOCATION:In your own home
CATEGORIES:Non-Eucharistic Service
ATTACH;FMTTYPE=image/jpeg:https://www.holytrinitydunoon.co.uk/wp-content/uploads/2025/01/Single-Candle-Burning-scaled-OkFG9d.tmp_.jpg
END:VEVENT
BEGIN:VEVENT
DTSTART;TZID=Europe/London:20251230T093000
DTEND;TZID=Europe/London:20251230T100000
DTSTAMP:20260424T122144
CREATED:20250828T105510Z
LAST-MODIFIED:20250828T105510Z
UID:13062-1767087000-1767088800@www.holytrinitydunoon.co.uk
SUMMARY:Morning Prayer@Home
DESCRIPTION:Morning prayer – using the liturgy on the SEC website  \nPlease use the contact form to request details of this Zoom service.
URL:https://www.holytrinitydunoon.co.uk/htevent/morning-prayerhome-248/
LOCATION:In your own home
CATEGORIES:Non-Eucharistic Service
ATTACH;FMTTYPE=image/jpeg:https://www.holytrinitydunoon.co.uk/wp-content/uploads/2022/06/Morning-Prayer-Illustration.jpg
END:VEVENT
END:VCALENDAR